BEGIN:VCALENDAR
VERSION:2.0
PRODID: -//Q4 Inc.//EN
METHOD:PUBLISH
BEGIN:VTIMEZONE
TZID:America/New_York
X-LIC-LOCATION:America/New_York
BEGIN:DAYLIGHT
TZOFFSETFROM:-0500
TZOFFSETTO:-0400
TZNAME:EDT
DTSTART:19700308T020000
RRULE:FREQ=YEARLY;BYMONTH=3;BYDAY=2SU
END:DAYLIGHT
BEGIN:STANDARD
TZOFFSETFROM:-0400
TZOFFSETTO:-0500
TZNAME:EST
DTSTART:19701101T020000
RRULE:FREQ=YEARLY;BYMONTH=11;BYDAY=1SU
END:STANDARD
END:VTIMEZONE
BEGIN:VEVENT
ORGANIZER:MAILTO:investorrelations@cencora.com
DTSTART;TZID="America/New_York":20200310T111500
DTEND;TZID="America/New_York":20200310T121500
LOCATION:
UID:9a61a9ee-9588-4832-9ce2-4f7caa4768d7
DTSTAMP:20260419T194516
SUMMARY:AmerisourceBergen at the Barclays Global Healthcare Conference 2020
DESCRIPTION: View More Information: https://investor.cencora.com/presentations-and-events/event-details/2020/AmerisourceBergen-at-the-Barclays-Global-Healthcare-Conference-2020/default.aspx
URL;VALUE=URI:https://investor.cencora.com/presentations-and-events/event-details/2020/AmerisourceBergen-at-the-Barclays-Global-Healthcare-Conference-2020/default.aspx
PRIORITY:5
CLASS:PUBLIC
END:VEVENT
END:VCALENDAR
